BEGIN:VCALENDAR
VERSION:2.0
PRODID:-//Wolf Hollow Wildlife Rehabilitation Center - ECPv6.15.20//NONSGML v1.0//EN
CALSCALE:GREGORIAN
METHOD:PUBLISH
X-WR-CALNAME:Wolf Hollow Wildlife Rehabilitation Center
X-ORIGINAL-URL:https://wolfhollowwildlife.org
X-WR-CALDESC:Events for Wolf Hollow Wildlife Rehabilitation Center
REFRESH-INTERVAL;VALUE=DURATION:PT1H
X-Robots-Tag:noindex
X-PUBLISHED-TTL:PT1H
BEGIN:VTIMEZONE
TZID:America/Los_Angeles
BEGIN:DAYLIGHT
TZOFFSETFROM:-0800
TZOFFSETTO:-0700
TZNAME:PDT
DTSTART:20250309T100000
END:DAYLIGHT
BEGIN:STANDARD
TZOFFSETFROM:-0700
TZOFFSETTO:-0800
TZNAME:PST
DTSTART:20251102T090000
END:STANDARD
BEGIN:DAYLIGHT
TZOFFSETFROM:-0800
TZOFFSETTO:-0700
TZNAME:PDT
DTSTART:20260308T100000
END:DAYLIGHT
BEGIN:STANDARD
TZOFFSETFROM:-0700
TZOFFSETTO:-0800
TZNAME:PST
DTSTART:20261101T090000
END:STANDARD
BEGIN:DAYLIGHT
TZOFFSETFROM:-0800
TZOFFSETTO:-0700
TZNAME:PDT
DTSTART:20270314T100000
END:DAYLIGHT
BEGIN:STANDARD
TZOFFSETFROM:-0700
TZOFFSETTO:-0800
TZNAME:PST
DTSTART:20271107T090000
END:STANDARD
END:VTIMEZONE
BEGIN:VEVENT
DTSTART;TZID=America/Los_Angeles:20260122T180000
DTEND;TZID=America/Los_Angeles:20260122T200000
DTSTAMP:20260423T151038
CREATED:20260102T165642Z
LAST-MODIFIED:20260104T213027Z
UID:17872-1769104800-1769112000@wolfhollowwildlife.org
SUMMARY:San Juan Island Transport Training
DESCRIPTION:Interested in helping transport wildlife for Wolf Hollow? Attend this training session from 6-8pm at the San Juan Library! Supplies provided. \nIf you are interested in other volunteer opportunities\, please fill out the below survey link to be added to our volunteer list. See you there! https://forms.gle/Cx4vQpz9bfgiFFue9
URL:https://wolfhollowwildlife.org/event/san-juan-island-transport-training/
END:VEVENT
END:VCALENDAR