BEGIN:VCALENDAR
VERSION:2.0
PRODID:-//Wolf Hollow Wildlife Rehabilitation Center - ECPv6.15.20//NONSGML v1.0//EN
CALSCALE:GREGORIAN
METHOD:PUBLISH
X-WR-CALNAME:Wolf Hollow Wildlife Rehabilitation Center
X-ORIGINAL-URL:https://wolfhollowwildlife.org
X-WR-CALDESC:Events for Wolf Hollow Wildlife Rehabilitation Center
REFRESH-INTERVAL;VALUE=DURATION:PT1H
X-Robots-Tag:noindex
X-PUBLISHED-TTL:PT1H
BEGIN:VTIMEZONE
TZID:America/Los_Angeles
BEGIN:DAYLIGHT
TZOFFSETFROM:-0800
TZOFFSETTO:-0700
TZNAME:PDT
DTSTART:20250309T100000
END:DAYLIGHT
BEGIN:STANDARD
TZOFFSETFROM:-0700
TZOFFSETTO:-0800
TZNAME:PST
DTSTART:20251102T090000
END:STANDARD
BEGIN:DAYLIGHT
TZOFFSETFROM:-0800
TZOFFSETTO:-0700
TZNAME:PDT
DTSTART:20260308T100000
END:DAYLIGHT
BEGIN:STANDARD
TZOFFSETFROM:-0700
TZOFFSETTO:-0800
TZNAME:PST
DTSTART:20261101T090000
END:STANDARD
BEGIN:DAYLIGHT
TZOFFSETFROM:-0800
TZOFFSETTO:-0700
TZNAME:PDT
DTSTART:20270314T100000
END:DAYLIGHT
BEGIN:STANDARD
TZOFFSETFROM:-0700
TZOFFSETTO:-0800
TZNAME:PST
DTSTART:20271107T090000
END:STANDARD
END:VTIMEZONE
BEGIN:VEVENT
DTSTART;TZID=America/Los_Angeles:20260131T080000
DTEND;TZID=America/Los_Angeles:20260131T170000
DTSTAMP:20260423T151214
CREATED:20260102T164544Z
LAST-MODIFIED:20260102T164544Z
UID:17870-1769846400-1769878800@wolfhollowwildlife.org
SUMMARY:Intern/Seasonal Application Due
DESCRIPTION:Applications for our 2026 summer season are due! \nLearn more about our program here: https://wolfhollowwildlife.org/about-wolf-hollow/careers/
URL:https://wolfhollowwildlife.org/event/intern-seasonal-application-due/
END:VEVENT
END:VCALENDAR