BEGIN:VCALENDAR
VERSION:2.0
PRODID:-//Wolf Hollow Wildlife Rehabilitation Center - ECPv6.15.20//NONSGML v1.0//EN
CALSCALE:GREGORIAN
METHOD:PUBLISH
X-WR-CALNAME:Wolf Hollow Wildlife Rehabilitation Center
X-ORIGINAL-URL:https://wolfhollowwildlife.org
X-WR-CALDESC:Events for Wolf Hollow Wildlife Rehabilitation Center
REFRESH-INTERVAL;VALUE=DURATION:PT1H
X-Robots-Tag:noindex
X-PUBLISHED-TTL:PT1H
BEGIN:VTIMEZONE
TZID:America/Los_Angeles
BEGIN:DAYLIGHT
TZOFFSETFROM:-0800
TZOFFSETTO:-0700
TZNAME:PDT
DTSTART:20230312T100000
END:DAYLIGHT
BEGIN:STANDARD
TZOFFSETFROM:-0700
TZOFFSETTO:-0800
TZNAME:PST
DTSTART:20231105T090000
END:STANDARD
BEGIN:DAYLIGHT
TZOFFSETFROM:-0800
TZOFFSETTO:-0700
TZNAME:PDT
DTSTART:20240310T100000
END:DAYLIGHT
BEGIN:STANDARD
TZOFFSETFROM:-0700
TZOFFSETTO:-0800
TZNAME:PST
DTSTART:20241103T090000
END:STANDARD
BEGIN:DAYLIGHT
TZOFFSETFROM:-0800
TZOFFSETTO:-0700
TZNAME:PDT
DTSTART:20250309T100000
END:DAYLIGHT
BEGIN:STANDARD
TZOFFSETFROM:-0700
TZOFFSETTO:-0800
TZNAME:PST
DTSTART:20251102T090000
END:STANDARD
END:VTIMEZONE
BEGIN:VEVENT
DTSTART;TZID=America/Los_Angeles:20240601T030000
DTEND;TZID=America/Los_Angeles:20240602T100000
DTSTAMP:20260422T092927
CREATED:20240528T234241Z
LAST-MODIFIED:20240528T234241Z
UID:16040-1717210800-1717322400@wolfhollowwildlife.org
SUMMARY:Anacortes Waterfront Festival
DESCRIPTION:Wolf Hollow Education Staff will be attending the Anacortes Waterfront Festival in the Discovery Channel section. Come and say hi\, chat about wildlife\, ask questions\, and play our hands-on educational games for all ages!
URL:https://wolfhollowwildlife.org/event/anacortes-waterfront-festival/
LOCATION:Cap Sante Marina\, 1019 Q Ave\, Anacortes\, WA\, United States
END:VEVENT
END:VCALENDAR