BEGIN:VCALENDAR
VERSION:2.0
PRODID:-//Wolf Hollow Wildlife Rehabilitation Center - ECPv6.15.20//NONSGML v1.0//EN
CALSCALE:GREGORIAN
METHOD:PUBLISH
X-WR-CALNAME:Wolf Hollow Wildlife Rehabilitation Center
X-ORIGINAL-URL:https://wolfhollowwildlife.org
X-WR-CALDESC:Events for Wolf Hollow Wildlife Rehabilitation Center
REFRESH-INTERVAL;VALUE=DURATION:PT1H
X-Robots-Tag:noindex
X-PUBLISHED-TTL:PT1H
BEGIN:VTIMEZONE
TZID:America/Los_Angeles
BEGIN:DAYLIGHT
TZOFFSETFROM:-0800
TZOFFSETTO:-0700
TZNAME:PDT
DTSTART:20240310T100000
END:DAYLIGHT
BEGIN:STANDARD
TZOFFSETFROM:-0700
TZOFFSETTO:-0800
TZNAME:PST
DTSTART:20241103T090000
END:STANDARD
BEGIN:DAYLIGHT
TZOFFSETFROM:-0800
TZOFFSETTO:-0700
TZNAME:PDT
DTSTART:20250309T100000
END:DAYLIGHT
BEGIN:STANDARD
TZOFFSETFROM:-0700
TZOFFSETTO:-0800
TZNAME:PST
DTSTART:20251102T090000
END:STANDARD
BEGIN:DAYLIGHT
TZOFFSETFROM:-0800
TZOFFSETTO:-0700
TZNAME:PDT
DTSTART:20260308T100000
END:DAYLIGHT
BEGIN:STANDARD
TZOFFSETFROM:-0700
TZOFFSETTO:-0800
TZNAME:PST
DTSTART:20261101T090000
END:STANDARD
END:VTIMEZONE
BEGIN:VEVENT
DTSTART;TZID=America/Los_Angeles:20250801T010000
DTEND;TZID=America/Los_Angeles:20250801T063000
DTSTAMP:20260423T062157
CREATED:20250802T224642Z
LAST-MODIFIED:20250802T224642Z
UID:17244-1754010000-1754029800@wolfhollowwildlife.org
SUMMARY:Wildlife Ferry Talks
DESCRIPTION:
URL:https://wolfhollowwildlife.org/event/wildlife-ferry-talks-3/
END:VEVENT
BEGIN:VEVENT
DTSTART;TZID=America/Los_Angeles:20250802T050000
DTEND;TZID=America/Los_Angeles:20250802T090000
DTSTAMP:20260423T062157
CREATED:20250802T223248Z
LAST-MODIFIED:20250802T223812Z
UID:17231-1754110800-1754125200@wolfhollowwildlife.org
SUMMARY:Let’s Talk Wildlife at Lime Kiln State Park!
DESCRIPTION:
URL:https://wolfhollowwildlife.org/event/lets-talk-wildlife-at-lime-kiln-state-park-5/
CATEGORIES:Weekly Park Talks
END:VEVENT
BEGIN:VEVENT
DTSTART;TZID=America/Los_Angeles:20250808T010000
DTEND;TZID=America/Los_Angeles:20250808T063000
DTSTAMP:20260423T062157
CREATED:20250802T224834Z
LAST-MODIFIED:20250802T224845Z
UID:17246-1754614800-1754634600@wolfhollowwildlife.org
SUMMARY:Wildlife Ferry Talk
DESCRIPTION:
URL:https://wolfhollowwildlife.org/event/wildlife-ferry-talk/
END:VEVENT
BEGIN:VEVENT
DTSTART;TZID=America/Los_Angeles:20250809T050000
DTEND;TZID=America/Los_Angeles:20250809T090000
DTSTAMP:20260423T062157
CREATED:20250802T223350Z
LAST-MODIFIED:20250802T223844Z
UID:17233-1754715600-1754730000@wolfhollowwildlife.org
SUMMARY:Let’s Talk Wildlife at Lime Kiln State Park!
DESCRIPTION:
URL:https://wolfhollowwildlife.org/event/lets-talk-wildlife-at-lime-kiln-state-park-6/
CATEGORIES:Weekly Park Talks
END:VEVENT
BEGIN:VEVENT
DTSTART;TZID=America/Los_Angeles:20250814T033000
DTEND;TZID=America/Los_Angeles:20250814T130000
DTSTAMP:20260423T062157
CREATED:20250803T005728Z
LAST-MODIFIED:20250803T010349Z
UID:17270-1755142200-1755176400@wolfhollowwildlife.org
SUMMARY:SJI County Fair
DESCRIPTION:Stop by the Wolf Hollow booth located in The Green Village! Learn more about the fair here: https://www.sanjuancountywa.gov/1957/The-Fair \n \nStop by the Wolf Hollow booth located in The Green Village! Learn more about the fair here: https://www.sanjuancountywa.gov/1957/The-Fair
URL:https://wolfhollowwildlife.org/event/sji-county-fair/
LOCATION:San Juan County Fairgrounds\, 849 Argyle Ave.\, Friday Harbor\, WA\, 98250\, United States
END:VEVENT
BEGIN:VEVENT
DTSTART;TZID=America/Los_Angeles:20250815T033000
DTEND;TZID=America/Los_Angeles:20250815T130000
DTSTAMP:20260423T062157
CREATED:20250803T010017Z
LAST-MODIFIED:20250803T010029Z
UID:17275-1755228600-1755262800@wolfhollowwildlife.org
SUMMARY:SJI County Fair
DESCRIPTION:Stop by the Wolf Hollow booth located in The Green Village! Learn more about the fair here: https://www.sanjuancountywa.gov/1957/The-Fair
URL:https://wolfhollowwildlife.org/event/sji-county-fair-2/
LOCATION:San Juan County Fairgrounds\, 849 Argyle Ave.\, Friday Harbor\, WA\, 98250\, United States
END:VEVENT
BEGIN:VEVENT
DTSTART;TZID=America/Los_Angeles:20250816T033000
DTEND;TZID=America/Los_Angeles:20250816T130000
DTSTAMP:20260423T062157
CREATED:20250803T010151Z
LAST-MODIFIED:20250803T010422Z
UID:17278-1755315000-1755349200@wolfhollowwildlife.org
SUMMARY:SJI County Fair
DESCRIPTION:Stop by the Wolf Hollow booth located in The Green Village! Learn more about the fair here: https://www.sanjuancountywa.gov/1957/The-Fair
URL:https://wolfhollowwildlife.org/event/sji-county-fair-3/
LOCATION:San Juan County Fairgrounds\, 849 Argyle Ave.\, Friday Harbor\, WA\, 98250\, United States
END:VEVENT
BEGIN:VEVENT
DTSTART;TZID=America/Los_Angeles:20250817T033000
DTEND;TZID=America/Los_Angeles:20250817T130000
DTSTAMP:20260423T062157
CREATED:20250803T010258Z
LAST-MODIFIED:20250803T010258Z
UID:17280-1755401400-1755435600@wolfhollowwildlife.org
SUMMARY:SJI County Fair
DESCRIPTION:Stop by the Wolf Hollow booth located in The Green Village! Learn more about the fair here: https://www.sanjuancountywa.gov/1957/The-Fair
URL:https://wolfhollowwildlife.org/event/sji-county-fair-4/
LOCATION:San Juan County Fairgrounds\, 849 Argyle Ave.\, Friday Harbor\, WA\, 98250\, United States
END:VEVENT
BEGIN:VEVENT
DTSTART;TZID=America/Los_Angeles:20250822T010000
DTEND;TZID=America/Los_Angeles:20250822T063000
DTSTAMP:20260423T062157
CREATED:20250802T224943Z
LAST-MODIFIED:20250802T224943Z
UID:17248-1755824400-1755844200@wolfhollowwildlife.org
SUMMARY:Wildlife Ferry Talks!
DESCRIPTION:
URL:https://wolfhollowwildlife.org/event/wildlife-ferry-talks-4/
END:VEVENT
BEGIN:VEVENT
DTSTART;TZID=America/Los_Angeles:20250823T050000
DTEND;TZID=America/Los_Angeles:20250823T090000
DTSTAMP:20260423T062157
CREATED:20250802T223453Z
LAST-MODIFIED:20250802T224040Z
UID:17235-1755925200-1755939600@wolfhollowwildlife.org
SUMMARY:Let’s Talk Wildlife at Lime Kiln State Park!
DESCRIPTION:
URL:https://wolfhollowwildlife.org/event/lets-talk-wildlife-at-lime-kiln-state-park-7/
CATEGORIES:Weekly Park Talks
END:VEVENT
BEGIN:VEVENT
DTSTART;TZID=America/Los_Angeles:20250829T010000
DTEND;TZID=America/Los_Angeles:20250829T063000
DTSTAMP:20260423T062157
CREATED:20250802T225041Z
LAST-MODIFIED:20250802T225438Z
UID:17250-1756429200-1756449000@wolfhollowwildlife.org
SUMMARY:Wildlife Ferry Talks!
DESCRIPTION:
URL:https://wolfhollowwildlife.org/event/wildlife-ferry-talks-5/
END:VEVENT
BEGIN:VEVENT
DTSTART;TZID=America/Los_Angeles:20250830T050000
DTEND;TZID=America/Los_Angeles:20250830T090000
DTSTAMP:20260423T062157
CREATED:20250802T223659Z
LAST-MODIFIED:20250802T224109Z
UID:17237-1756530000-1756544400@wolfhollowwildlife.org
SUMMARY:Let’s Talk Wildlife at Lime Kiln State Park!
DESCRIPTION:
URL:https://wolfhollowwildlife.org/event/lets-talk-wildlife-at-lime-kiln-state-park-8/
CATEGORIES:Weekly Park Talks
END:VEVENT
END:VCALENDAR